BEGIN:VCALENDAR
VERSION:2.0
PRODID:-//Ortsverband Heiden - ECPv6.15.20//NONSGML v1.0//EN
CALSCALE:GREGORIAN
METHOD:PUBLISH
X-WR-CALNAME:Ortsverband Heiden
X-ORIGINAL-URL:https://gruene-heiden.de
X-WR-CALDESC:Veranstaltungen für Ortsverband Heiden
REFRESH-INTERVAL;VALUE=DURATION:PT1H
X-Robots-Tag:noindex
X-PUBLISHED-TTL:PT1H
BEGIN:VTIMEZONE
TZID:Europe/Berlin
BEGIN:DAYLIGHT
TZOFFSETFROM:+0100
TZOFFSETTO:+0200
TZNAME:CEST
DTSTART:20210328T010000
END:DAYLIGHT
BEGIN:STANDARD
TZOFFSETFROM:+0200
TZOFFSETTO:+0100
TZNAME:CET
DTSTART:20211031T010000
END:STANDARD
BEGIN:DAYLIGHT
TZOFFSETFROM:+0100
TZOFFSETTO:+0200
TZNAME:CEST
DTSTART:20220327T010000
END:DAYLIGHT
BEGIN:STANDARD
TZOFFSETFROM:+0200
TZOFFSETTO:+0100
TZNAME:CET
DTSTART:20221030T010000
END:STANDARD
BEGIN:DAYLIGHT
TZOFFSETFROM:+0100
TZOFFSETTO:+0200
TZNAME:CEST
DTSTART:20230326T010000
END:DAYLIGHT
BEGIN:STANDARD
TZOFFSETFROM:+0200
TZOFFSETTO:+0100
TZNAME:CET
DTSTART:20231029T010000
END:STANDARD
BEGIN:DAYLIGHT
TZOFFSETFROM:+0100
TZOFFSETTO:+0200
TZNAME:CEST
DTSTART:20240331T010000
END:DAYLIGHT
BEGIN:STANDARD
TZOFFSETFROM:+0200
TZOFFSETTO:+0100
TZNAME:CET
DTSTART:20241027T010000
END:STANDARD
BEGIN:DAYLIGHT
TZOFFSETFROM:+0100
TZOFFSETTO:+0200
TZNAME:CEST
DTSTART:20250330T010000
END:DAYLIGHT
BEGIN:STANDARD
TZOFFSETFROM:+0200
TZOFFSETTO:+0100
TZNAME:CET
DTSTART:20251026T010000
END:STANDARD
BEGIN:DAYLIGHT
TZOFFSETFROM:+0100
TZOFFSETTO:+0200
TZNAME:CEST
DTSTART:20260329T010000
END:DAYLIGHT
BEGIN:STANDARD
TZOFFSETFROM:+0200
TZOFFSETTO:+0100
TZNAME:CET
DTSTART:20261025T010000
END:STANDARD
BEGIN:DAYLIGHT
TZOFFSETFROM:+0100
TZOFFSETTO:+0200
TZNAME:CEST
DTSTART:20270328T010000
END:DAYLIGHT
BEGIN:STANDARD
TZOFFSETFROM:+0200
TZOFFSETTO:+0100
TZNAME:CET
DTSTART:20271031T010000
END:STANDARD
END:VTIMEZONE
BEGIN:VEVENT
DTSTART;TZID=Europe/Berlin:20260310T190000
DTEND;TZID=Europe/Berlin:20260310T210000
DTSTAMP:20260422T152531
CREATED:20260112T132031Z
LAST-MODIFIED:20260112T132032Z
UID:1447-1773169200-1773176400@gruene-heiden.de
SUMMARY:Fraktionssitzung
DESCRIPTION:Fraktionssitzung im Betreuungsbüro Jordan\, Rathausplatz 3\, Heiden
URL:https://gruene-heiden.de/event/fraktionssitzung-25/
END:VEVENT
BEGIN:VEVENT
DTSTART;TZID=Europe/Berlin:20260210T190000
DTEND;TZID=Europe/Berlin:20260210T210000
DTSTAMP:20260422T152531
CREATED:20260112T131830Z
LAST-MODIFIED:20260112T131831Z
UID:1445-1770750000-1770757200@gruene-heiden.de
SUMMARY:Fraktionssitzung
DESCRIPTION:Fraktionssitzung im Betreuungsbüro Jordan\, Rathausplatz 3\, Heiden
URL:https://gruene-heiden.de/event/fraktionssitzung-24/
END:VEVENT
BEGIN:VEVENT
DTSTART;TZID=Europe/Berlin:20260117T140000
DTEND;TZID=Europe/Berlin:20260117T170000
DTSTAMP:20260422T152531
CREATED:20251127T164137Z
LAST-MODIFIED:20251127T164439Z
UID:1419-1768658400-1768669200@gruene-heiden.de
SUMMARY:Neujahrswanderung
DESCRIPTION:17. Januar 2026 von 14:00 – 17:00 \n\n\n\n\n\nSpaziergang durch Feld und Wald zu den Teufelsteinen mit Punsch und NeujahrshörnchenTreffpunkt: Kreuzung Ostring / Uhlenweg
URL:https://gruene-heiden.de/event/neujahrswanderung/
ATTACH;FMTTYPE=image/jpeg:https://gruene-heiden.de/wp-content/uploads/2022/01/IMG_20211027_151933-scaled.jpg
END:VEVENT
BEGIN:VEVENT
DTSTART;TZID=Europe/Berlin:20251203T190000
DTEND;TZID=Europe/Berlin:20251203T210000
DTSTAMP:20260422T152531
CREATED:20251115T105207Z
LAST-MODIFIED:20251127T164529Z
UID:1415-1764788400-1764795600@gruene-heiden.de
SUMMARY:Fraktionssitzung
DESCRIPTION:3. Dezember 2026 ab 19:00 Uhr \n\n\n\n\n\nFraktionssitzung im Betreuungsbüro Jordan\, Rathausplatz 3\, Heiden
URL:https://gruene-heiden.de/event/fraktionssitzung-23/
END:VEVENT
BEGIN:VEVENT
DTSTART;TZID=Europe/Berlin:20251115T103000
DTEND;TZID=Europe/Berlin:20251115T120000
DTSTAMP:20260422T152531
CREATED:20251115T093000Z
LAST-MODIFIED:20251115T105631Z
UID:1412-1763202600-1763208000@gruene-heiden.de
SUMMARY:Fraktionssitzung
DESCRIPTION:Fraktionssitzung im Betreuungsbüro Jordan\, Rathausplatz 3\, Heiden
URL:https://gruene-heiden.de/event/fraktionssitzung-22/
END:VEVENT
BEGIN:VEVENT
DTSTART;TZID=Europe/Berlin:20251111T190000
DTEND;TZID=Europe/Berlin:20251111T210000
DTSTAMP:20260422T152531
CREATED:20251111T180000Z
LAST-MODIFIED:20251115T105431Z
UID:1410-1762887600-1762894800@gruene-heiden.de
SUMMARY:Fraktionssitzung
DESCRIPTION:Fraktionssitzung im Betreuungsbüro Jordan\, Rathausplatz 3\, Heiden
URL:https://gruene-heiden.de/event/fraktionssitzung-21/
END:VEVENT
BEGIN:VEVENT
DTSTART;TZID=Europe/Berlin:20250919T190000
DTEND;TZID=Europe/Berlin:20250919T210000
DTSTAMP:20260422T152531
CREATED:20250909T173658Z
LAST-MODIFIED:20250909T173659Z
UID:1381-1758308400-1758315600@gruene-heiden.de
SUMMARY:Fraktionssitzung
DESCRIPTION:Fraktionssitzung im Betreuungsbüro Jordan\, Rathausplatz 3\, Heiden
URL:https://gruene-heiden.de/event/fraktionssitzung-20/
END:VEVENT
BEGIN:VEVENT
DTSTART;TZID=Europe/Berlin:20250630T190000
DTEND;TZID=Europe/Berlin:20250630T210000
DTSTAMP:20260422T152531
CREATED:20250217T180030Z
LAST-MODIFIED:20250209T185647Z
UID:1159-1751310000-1751317200@gruene-heiden.de
SUMMARY:Fraktionssitzung
DESCRIPTION:Fraktionssitzung im Betreuungsbüro Jordan\, Rathausplatz 3\, Heiden
URL:https://gruene-heiden.de/event/fraktionssitzung-8/
END:VEVENT
BEGIN:VEVENT
DTSTART;TZID=Europe/Berlin:20250630T190000
DTEND;TZID=Europe/Berlin:20250630T210000
DTSTAMP:20260422T152531
CREATED:20250209T185757Z
LAST-MODIFIED:20250209T185757Z
UID:1186-1751310000-1751317200@gruene-heiden.de
SUMMARY:Fraktionssitzung
DESCRIPTION:Fraktionssitzung im Betreuungsbüro Jordan\, Rathausplatz 3\, Heiden
URL:https://gruene-heiden.de/event/fraktionssitzung-19/
END:VEVENT
BEGIN:VEVENT
DTSTART;TZID=Europe/Berlin:20250612T183000
DTEND;TZID=Europe/Berlin:20250612T213000
DTSTAMP:20260422T152531
CREATED:20250610T063842Z
LAST-MODIFIED:20250610T063843Z
UID:1217-1749753000-1749763800@gruene-heiden.de
SUMMARY:Es geht um DEIN Dorf
DESCRIPTION:Ludgerusforum \n\n\n\n\n\nDie im Rat vertretenden Fraktionen und Bürgermeister Patrick Voßkamp laden zur Veranstaltung ein. Hierzu ist jeder Heidener eingeladen\, mitreden und mitgestalten möchte.  \n\n\n\nOb Ideen\, Fragen\, Wünsche oder Kritik: Alles darf auf den Tisch. Aktuelle Projekte der Gemeinde werden vorgestellt. Die 2-stündige Veranstaltung wird von Edgar Rabe im Ludgerusforum moderiert.
URL:https://gruene-heiden.de/event/es-geht-um-dein-dorf/
ATTACH;FMTTYPE=image/png:https://gruene-heiden.de/wp-content/uploads/2025/06/12.06.2025-002.png
END:VEVENT
BEGIN:VEVENT
DTSTART;TZID=Europe/Berlin:20250602T190000
DTEND;TZID=Europe/Berlin:20250602T210000
DTSTAMP:20260422T152531
CREATED:20250209T185730Z
LAST-MODIFIED:20250209T185730Z
UID:1182-1748890800-1748898000@gruene-heiden.de
SUMMARY:Fraktionssitzung
DESCRIPTION:Fraktionssitzung im Betreuungsbüro Jordan\, Rathausplatz 3\, Heiden
URL:https://gruene-heiden.de/event/fraktionssitzung-18/
END:VEVENT
BEGIN:VEVENT
DTSTART;TZID=Europe/Berlin:20250527T190000
DTEND;TZID=Europe/Berlin:20250527T210000
DTSTAMP:20260422T152531
CREATED:20250209T185718Z
LAST-MODIFIED:20250512T145750Z
UID:1181-1748372400-1748379600@gruene-heiden.de
SUMMARY:Fraktionssitzung
DESCRIPTION:Fraktionssitzung im Betreuungsbüro Jordan\, Rathausplatz 3\, Heiden
URL:https://gruene-heiden.de/event/fraktionssitzung-17/
END:VEVENT
BEGIN:VEVENT
DTSTART;TZID=Europe/Berlin:20250512T190000
DTEND;TZID=Europe/Berlin:20250512T210000
DTSTAMP:20260422T152531
CREATED:20250209T185706Z
LAST-MODIFIED:20250209T185707Z
UID:1180-1747076400-1747083600@gruene-heiden.de
SUMMARY:Fraktionssitzung
DESCRIPTION:Fraktionssitzung im Betreuungsbüro Jordan\, Rathausplatz 3\, Heiden
URL:https://gruene-heiden.de/event/fraktionssitzung-16/
END:VEVENT
BEGIN:VEVENT
DTSTART;TZID=Europe/Berlin:20250505T190000
DTEND;TZID=Europe/Berlin:20250505T210000
DTSTAMP:20260422T152531
CREATED:20250209T185517Z
LAST-MODIFIED:20250209T185517Z
UID:1178-1746471600-1746478800@gruene-heiden.de
SUMMARY:Fraktionssitzung
DESCRIPTION:Fraktionssitzung im Betreuungsbüro Jordan\, Rathausplatz 3\, Heiden
URL:https://gruene-heiden.de/event/fraktionssitzung-15/
END:VEVENT
BEGIN:VEVENT
DTSTART;TZID=Europe/Berlin:20250423T190000
DTEND;TZID=Europe/Berlin:20250423T210000
DTSTAMP:20260422T152531
CREATED:20250209T123823Z
LAST-MODIFIED:20250209T185415Z
UID:1175-1745434800-1745442000@gruene-heiden.de
SUMMARY:Fraktionssitzung
DESCRIPTION:Fraktionssitzung im Betreuungsbüro Jordan\, Rathausplatz 3\, Heiden
URL:https://gruene-heiden.de/event/fraktionssitzung-14/
END:VEVENT
BEGIN:VEVENT
DTSTART;TZID=Europe/Berlin:20250407T191500
DTEND;TZID=Europe/Berlin:20250407T210000
DTSTAMP:20260422T152531
CREATED:20250209T123729Z
LAST-MODIFIED:20250209T185310Z
UID:1173-1744053300-1744059600@gruene-heiden.de
SUMMARY:Fraktionssitzung
DESCRIPTION:Fraktionssitzung im Betreuungsbüro Jordan\, Rathausplatz 3\, Heiden
URL:https://gruene-heiden.de/event/fraktionssitzung-13/
END:VEVENT
BEGIN:VEVENT
DTSTART;TZID=Europe/Berlin:20250326T180000
DTEND;TZID=Europe/Berlin:20250326T200000
DTSTAMP:20260422T152531
CREATED:20250209T123635Z
LAST-MODIFIED:20250210T112826Z
UID:1171-1743012000-1743019200@gruene-heiden.de
SUMMARY:Mitgliederversammlung
DESCRIPTION:Mitgliederversammlung Veranstaltungsort wird noch bekanntgegeben \n\n\n\nAufstellung der Liste für die Kommunalwahl
URL:https://gruene-heiden.de/event/fraktionssitzung-12/
END:VEVENT
BEGIN:VEVENT
DTSTART;TZID=Europe/Berlin:20250314T163000
DTEND;TZID=Europe/Berlin:20250314T173000
DTSTAMP:20260422T152531
CREATED:20250209T123504Z
LAST-MODIFIED:20250313T094125Z
UID:1169-1741969800-1741973400@gruene-heiden.de
SUMMARY:Fraktionssitzung fällt aus wg Absage HFA
DESCRIPTION:Fraktionssitzung im Betreuungsbüro Jordan\, Rathausplatz 3\, Heiden
URL:https://gruene-heiden.de/event/fraktionssitzung-11/
END:VEVENT
BEGIN:VEVENT
DTSTART;TZID=Europe/Berlin:20250310T191500
DTEND;TZID=Europe/Berlin:20250310T210000
DTSTAMP:20260422T152531
CREATED:20250209T123339Z
LAST-MODIFIED:20250209T184406Z
UID:1167-1741634100-1741640400@gruene-heiden.de
SUMMARY:Fraktionssitzung
DESCRIPTION:Fraktionssitzung im Betreuungsbüro Jordan\, Rathausplatz 3\, Heiden
URL:https://gruene-heiden.de/event/fraktionssitzung-10/
END:VEVENT
BEGIN:VEVENT
DTSTART;TZID=Europe/Berlin:20250212T183000
DTEND;TZID=Europe/Berlin:20250212T210000
DTSTAMP:20260422T152531
CREATED:20250209T123052Z
LAST-MODIFIED:20250209T184314Z
UID:1165-1739385000-1739394000@gruene-heiden.de
SUMMARY:Fraktionssitzung
DESCRIPTION:Fraktionssitzung im Betreuungsbüro Jordan\, Rathausplatz 3\, Heiden
URL:https://gruene-heiden.de/event/fraktionssitzung-9/
END:VEVENT
BEGIN:VEVENT
DTSTART;TZID=Europe/Berlin:20241028T193000
DTEND;TZID=Europe/Berlin:20241028T210000
DTSTAMP:20260422T152531
CREATED:20240923T095426Z
LAST-MODIFIED:20240923T150351Z
UID:1126-1730143800-1730149200@gruene-heiden.de
SUMMARY:Fraktionssitzung
DESCRIPTION:Fraktionssitzung im Betreuungsbüro Jordan\, Rathausplatz 3\, Heiden
URL:https://gruene-heiden.de/event/fraktionssitzung-7/
END:VEVENT
BEGIN:VEVENT
DTSTART;TZID=Europe/Berlin:20240923T193000
DTEND;TZID=Europe/Berlin:20240923T210000
DTSTAMP:20260422T152531
CREATED:20240917T134414Z
LAST-MODIFIED:20240917T134414Z
UID:1123-1727119800-1727125200@gruene-heiden.de
SUMMARY:Fraktionssitzung
DESCRIPTION:Fraktionssitzung im Betreuungsbüro Jordan\, Rathausplatz 3\, Heiden
URL:https://gruene-heiden.de/event/fraktionssitzung-6/
END:VEVENT
BEGIN:VEVENT
DTSTART;TZID=Europe/Berlin:20240916T193000
DTEND;TZID=Europe/Berlin:20240916T210000
DTSTAMP:20260422T152531
CREATED:20240915T145238Z
LAST-MODIFIED:20240915T145519Z
UID:1113-1726515000-1726520400@gruene-heiden.de
SUMMARY:Fraktionssitzung
DESCRIPTION:Fraktionssitzung im Betreuungsbüro Jordan\, Rathausplatz 3\, Heiden
URL:https://gruene-heiden.de/event/fraktionssitzung-5/
END:VEVENT
BEGIN:VEVENT
DTSTART;TZID=Europe/Berlin:20240416T190000
DTEND;TZID=Europe/Berlin:20240416T210000
DTSTAMP:20260422T152531
CREATED:20240416T153254Z
LAST-MODIFIED:20240416T153255Z
UID:1077-1713294000-1713301200@gruene-heiden.de
SUMMARY:MACHEN WAS ZÄHLT:
DESCRIPTION:WORAUF ES IN EUROPA ANKOMMT\n\n\n\nDiskussion mit Michael Sacher MdB \n\n\n\nOrt: Grünes Forum Borken
URL:https://gruene-heiden.de/event/machen-was-zaehlt/
END:VEVENT
BEGIN:VEVENT
DTSTART;TZID=Europe/Berlin:20240311T190000
DTEND;TZID=Europe/Berlin:20240311T210000
DTSTAMP:20260422T152531
CREATED:20240126T103516Z
LAST-MODIFIED:20240126T103517Z
UID:1060-1710183600-1710190800@gruene-heiden.de
SUMMARY:Öffentliche Fraktionssitzung
DESCRIPTION:Ort: Betreuungsbüro Jordan Rathausplatz 3 bzw. wird Ort noch bekannt gegeben
URL:https://gruene-heiden.de/event/oeffentliche-fraktionssitzung-26/
END:VEVENT
BEGIN:VEVENT
DTSTART;TZID=Europe/Berlin:20240228T190000
DTEND;TZID=Europe/Berlin:20240228T210000
DTSTAMP:20260422T152531
CREATED:20240126T103425Z
LAST-MODIFIED:20240126T103426Z
UID:1058-1709146800-1709154000@gruene-heiden.de
SUMMARY:Öffentliche Fraktionssitzung
DESCRIPTION:Ort: Betreuungsbüro Jordan Rathausplatz 3 bzw. wird Ort noch bekannt gegeben
URL:https://gruene-heiden.de/event/oeffentliche-fraktionssitzung-25/
END:VEVENT
BEGIN:VEVENT
DTSTART;TZID=Europe/Berlin:20240219T191500
DTEND;TZID=Europe/Berlin:20240219T210000
DTSTAMP:20260422T152531
CREATED:20240126T103324Z
LAST-MODIFIED:20240131T085003Z
UID:1056-1708370100-1708376400@gruene-heiden.de
SUMMARY:Öffentliche Fraktionssitzung
DESCRIPTION:Ort: Betreuungsbüro Jordan Rathausplatz 3 bzw. wird Ort noch bekannt gegeben
URL:https://gruene-heiden.de/event/oeffentliche-fraktionssitzung-22/
END:VEVENT
BEGIN:VEVENT
DTSTART;TZID=Europe/Berlin:20230903T140000
DTEND;TZID=Europe/Berlin:20230903T153000
DTSTAMP:20260422T152531
CREATED:20230704T073412Z
LAST-MODIFIED:20230828T151950Z
UID:1040-1693749600-1693755000@gruene-heiden.de
SUMMARY:Fahrrad- und Wandertour im Heidener Wald
DESCRIPTION:Führung durch den Revierförster Herrn Vogt\, Ausklang an den Düwelsteenen mit Kaffee und Kuchen \n\n\n\n3. September 2023\, 14:00 Uhr\, Treffpunkt Kreuzwegkapelle
URL:https://gruene-heiden.de/event/fahrrad-und-wandertour-im-heidener-wald/
ATTACH;FMTTYPE=image/jpeg:https://gruene-heiden.de/wp-content/uploads/2023/07/e3013d78-941e-436a-b3af-91467e113baf.jpg
END:VEVENT
BEGIN:VEVENT
DTSTART;TZID=Europe/Berlin:20221212T180000
DTEND;TZID=Europe/Berlin:20221212T200000
DTSTAMP:20260422T152531
CREATED:20220823T155125Z
LAST-MODIFIED:20220823T155125Z
UID:988-1670868000-1670875200@gruene-heiden.de
SUMMARY:Öffentliche Fraktionssitzung
DESCRIPTION:Ort: Betreuungsbüro Jordan Rathausplatz 3 bzw. wird Ort noch bekannt gegeben
URL:https://gruene-heiden.de/event/oeffentliche-fraktionssitzung-23/
END:VEVENT
BEGIN:VEVENT
DTSTART;TZID=Europe/Berlin:20221114T180000
DTEND;TZID=Europe/Berlin:20221114T200000
DTSTAMP:20260422T152531
CREATED:20220823T155009Z
LAST-MODIFIED:20221108T165613Z
UID:984-1668448800-1668456000@gruene-heiden.de
SUMMARY:Öffentliche Fraktionssitzung
DESCRIPTION:Ort: Betreuungsbüro Jordan Rathausplatz 3 im Landhotel Beckmann
URL:https://gruene-heiden.de/event/oeffentliche-fraktionssitzung-21/
END:VEVENT
END:VCALENDAR